BEGIN:VCALENDAR
PRODID:-//hacksw/handcal//NONSGML v1.0//EN
VERSION:2.0
METHOD:PUBLISH
BEGIN:VEVENT
DTSTART:20260512T211500Z
DTEND:20260512T230000Z
LOCATION:South Carolina Yacht Club
UID:2815220260512T211500ZCouncil Meeting - Investments
DTSTAMP:20260424T013322Z
DESCRIPTION:
SUMMARY:Council Meeting - Investments - Hilton Head Area Council of Estate &amp; Financial Advisors, Inc. 
PRIORITY:3
BEGIN:VALARM
TRIGGER:PT18H
ACTION:DISPLAY
DESCRIPTION:Reminder
END:VALARM
END:VEVENT
END:VCALENDAR