BEGIN:VCALENDAR
PRODID:-//hacksw/handcal//NONSGML v1.0//EN
VERSION:2.0
METHOD:PUBLISH
BEGIN:VEVENT
DTSTART:20260611T150000Z
DTEND:20260611T160000Z
LOCATION:
UID:2944720260611T150000ZLeadership Board Meeting
DTSTAMP:20260421T123408Z
DESCRIPTION:
SUMMARY:Leadership Board Meeting - Hilton Head Area Council of Estate &amp; Financial Advisors, Inc. 
PRIORITY:3
BEGIN:VALARM
TRIGGER:PT18H
ACTION:DISPLAY
DESCRIPTION:Reminder
END:VALARM
END:VEVENT
END:VCALENDAR