BEGIN:VCALENDAR
PRODID:-//hacksw/handcal//NONSGML v1.0//EN
VERSION:2.0
METHOD:PUBLISH
BEGIN:VEVENT
DTSTART:20260908T211500Z
DTEND:20260908T230000Z
LOCATION:South Carolina Yacht Club
UID:2945020260908T211500ZCouncil Meeting - Making Medicare Work for You - Part 2
DTSTAMP:20260421T123354Z
DESCRIPTION:
SUMMARY:Council Meeting - Making Medicare Work for You - Part 2 - Hilton Head Area Council of Estate &amp; Financial Advisors, Inc. 
PRIORITY:3
BEGIN:VALARM
TRIGGER:PT18H
ACTION:DISPLAY
DESCRIPTION:Reminder
END:VALARM
END:VEVENT
END:VCALENDAR